BEGIN:VCALENDAR
VERSION:2.0
PRODID:-//Hancock Shaker Village - ECPv6.15.20//NONSGML v1.0//EN
CALSCALE:GREGORIAN
METHOD:PUBLISH
X-ORIGINAL-URL:https://hancockshakervillage.org
X-WR-CALDESC:Events for Hancock Shaker Village
REFRESH-INTERVAL;VALUE=DURATION:PT1H
X-Robots-Tag:noindex
X-PUBLISHED-TTL:PT1H
BEGIN:VTIMEZONE
TZID:America/New_York
BEGIN:DAYLIGHT
TZOFFSETFROM:-0500
TZOFFSETTO:-0400
TZNAME:EDT
DTSTART:20250309T070000
END:DAYLIGHT
BEGIN:STANDARD
TZOFFSETFROM:-0400
TZOFFSETTO:-0500
TZNAME:EST
DTSTART:20251102T060000
END:STANDARD
BEGIN:DAYLIGHT
TZOFFSETFROM:-0500
TZOFFSETTO:-0400
TZNAME:EDT
DTSTART:20260308T070000
END:DAYLIGHT
BEGIN:STANDARD
TZOFFSETFROM:-0400
TZOFFSETTO:-0500
TZNAME:EST
DTSTART:20261101T060000
END:STANDARD
BEGIN:DAYLIGHT
TZOFFSETFROM:-0500
TZOFFSETTO:-0400
TZNAME:EDT
DTSTART:20270314T070000
END:DAYLIGHT
BEGIN:STANDARD
TZOFFSETFROM:-0400
TZOFFSETTO:-0500
TZNAME:EST
DTSTART:20271107T060000
END:STANDARD
END:VTIMEZONE
BEGIN:VEVENT
DTSTART;TZID=America/New_York:20260715T200000
DTEND;TZID=America/New_York:20260715T213000
DTSTAMP:20260421T161927
CREATED:20260225T174920Z
LAST-MODIFIED:20260225T181711Z
UID:10006955-1784145600-1784151000@hancockshakervillage.org
SUMMARY:Haunted Hancock Tour
DESCRIPTION:HAUNTED HANCOCK  \nTime: 8 pm \nAn after-hours\, spine-chilling evening of ghosts and mystery. Walk the dark paths of the village with an expert guide\, hear tales of ghostly sightings\, and discover the Shakers’ role in the spiritualist movement. \nAllow 90 minutes. Tours are recommended for anyone over the age of 12. Tour covers about 1/4 mile of property and includes walking on uneven terrain and climbing several flights of stairs.   \nFee: $30/27 members.  \nPre-registration required.  REGISTER HERE
URL:https://hancockshakervillage.org/calendar/haunted-hancock-tour-july-15/
LOCATION:Hancock Shaker Village\, 1843 West Housatonic Street\, Pittsfield\, MA\, 01201\, United States
CATEGORIES:Haunted Hancock
ATTACH;FMTTYPE=image/jpeg:https://hancockshakervillage.org/wp-content/uploads/2023/08/Window-shining-on-gravestones-3-scaled-e1772043325301.jpg
END:VEVENT
BEGIN:VEVENT
DTSTART;TZID=America/New_York:20260812T190000
DTEND;TZID=America/New_York:20260812T203000
DTSTAMP:20260421T161927
CREATED:20260225T175556Z
LAST-MODIFIED:20260225T180403Z
UID:10006956-1786561200-1786566600@hancockshakervillage.org
SUMMARY:Haunted Hancock Tour
DESCRIPTION:HAUNTED HANCOCK  \nTime: 7 pm \nAn after-hours\, spine-chilling evening of ghosts and mystery. Walk the dark paths of the village with an expert guide\, hear tales of ghostly sightings\, and discover the Shakers’ role in the spiritualist movement. \nAllow 90 minutes. Tours are recommended for anyone over the age of 12. Tour covers about 1/4 mile of property and includes walking on uneven terrain and climbing several flights of stairs.   \nFee: $30/27 members.  \nPre-registration required.  REGISTER HERE
URL:https://hancockshakervillage.org/calendar/haunted-hancock-tour/
LOCATION:Hancock Shaker Village\, 1843 West Housatonic Street\, Pittsfield\, MA\, 01201\, United States
CATEGORIES:Haunted Hancock
END:VEVENT
BEGIN:VEVENT
DTSTART;TZID=America/New_York:20261017T110000
DTEND;TZID=America/New_York:20261017T150000
DTSTAMP:20260421T161927
CREATED:20260309T221633Z
LAST-MODIFIED:20260310T183442Z
UID:10007045-1792234800-1792249200@hancockshakervillage.org
SUMMARY:Pumpkin Extravaganza – Family Day at the Village: October 17
DESCRIPTION:HALLOWEEN PUMPKIN EXTRAVAGANZA AT THE VILLAGE\nSaturday\, October 17\, 11am-3pm\nCelebrate Halloween AND all things pumpkin.  Wear your costume\, trick-or-treat through the Village\, meet Valerian the Garden Witch\, decorate a pumpkin\, and visit the Dwelling kitchen.
URL:https://hancockshakervillage.org/calendar/pumpkin-extravaganza-family-day-at-the-village-october-17-2026/
LOCATION:Hancock Shaker Village\, 1843 West Housatonic Street\, Pittsfield\, MA\, 01201\, United States
CATEGORIES:Haunted Hancock,Pumpkin Extravaganza
ATTACH;FMTTYPE=image/jpeg:https://hancockshakervillage.org/wp-content/uploads/2026/03/pumpkins-and-kids-1-scaled.jpg
END:VEVENT
BEGIN:VEVENT
DTSTART;TZID=America/New_York:20261022T190000
DTEND;TZID=America/New_York:20261022T203000
DTSTAMP:20260421T161927
CREATED:20260225T175638Z
LAST-MODIFIED:20260225T180327Z
UID:10006957-1792695600-1792701000@hancockshakervillage.org
SUMMARY:Haunted Hancock Tour
DESCRIPTION:HAUNTED HANCOCK  \nTime: 7 pm \nAn after-hours\, spine-chilling evening of ghosts and mystery. Walk the dark paths of the village with an expert guide\, hear tales of ghostly sightings\, and discover the Shakers’ role in the spiritualist movement. \nAllow 90 minutes. Tours are recommended for anyone over the age of 12. Tour covers about 1/4 mile of property and includes walking on uneven terrain and climbing several flights of stairs.   \nFee: $30/27 members.  \nPre-registration required.  REGISTER HERE
URL:https://hancockshakervillage.org/calendar/haunted-hancock-tour-2/
LOCATION:Hancock Shaker Village\, 1843 West Housatonic Street\, Pittsfield\, MA\, 01201\, United States
CATEGORIES:Haunted Hancock
END:VEVENT
BEGIN:VEVENT
DTSTART;TZID=America/New_York:20261023T190000
DTEND;TZID=America/New_York:20261023T203000
DTSTAMP:20260421T161927
CREATED:20260225T175700Z
LAST-MODIFIED:20260225T175700Z
UID:10006958-1792782000-1792787400@hancockshakervillage.org
SUMMARY:Haunted Hancock Tour
DESCRIPTION:HAUNTED HANCOCK  \nTime: 7 pm \nAn after-hours\, spine-chilling evening of ghosts and mystery. Walk the dark paths of the village with an expert guide\, hear tales of ghostly sightings\, and discover the Shakers’ role in the spiritualist movement. \nAllow 90 minutes. Tours are recommended for anyone over the age of 12. Tour covers about 1/4 mile of property and includes walking on uneven terrain and climbing several flights of stairs.   \nFee: $30/27 members.  \nPre-registration required.  REGISTER HERE
URL:https://hancockshakervillage.org/calendar/haunted-hancock-tour-3/
LOCATION:Hancock Shaker Village\, 1843 West Housatonic Street\, Pittsfield\, MA\, 01201\, United States
CATEGORIES:Haunted Hancock
END:VEVENT
BEGIN:VEVENT
DTSTART;TZID=America/New_York:20261024T190000
DTEND;TZID=America/New_York:20261024T203000
DTSTAMP:20260421T161927
CREATED:20260225T175726Z
LAST-MODIFIED:20260225T175726Z
UID:10006959-1792868400-1792873800@hancockshakervillage.org
SUMMARY:Haunted Hancock Tour
DESCRIPTION:HAUNTED HANCOCK  \nTime: 7 pm \nAn after-hours\, spine-chilling evening of ghosts and mystery. Walk the dark paths of the village with an expert guide\, hear tales of ghostly sightings\, and discover the Shakers’ role in the spiritualist movement. \nAllow 90 minutes. Tours are recommended for anyone over the age of 12. Tour covers about 1/4 mile of property and includes walking on uneven terrain and climbing several flights of stairs.   \nFee: $30/27 members.  \nPre-registration required.  REGISTER HERE
URL:https://hancockshakervillage.org/calendar/haunted-hancock-tour-4/
LOCATION:Hancock Shaker Village\, 1843 West Housatonic Street\, Pittsfield\, MA\, 01201\, United States
CATEGORIES:Haunted Hancock
END:VEVENT
BEGIN:VEVENT
DTSTART;TZID=America/New_York:20261029T190000
DTEND;TZID=America/New_York:20261029T203000
DTSTAMP:20260421T161927
CREATED:20260225T175749Z
LAST-MODIFIED:20260225T180159Z
UID:10006960-1793300400-1793305800@hancockshakervillage.org
SUMMARY:Haunted Hancock Tour
DESCRIPTION:HAUNTED HANCOCK  \nTime: 7 pm \nAn after-hours\, spine-chilling evening of ghosts and mystery. Walk the dark paths of the village with an expert guide\, hear tales of ghostly sightings\, and discover the Shakers’ role in the spiritualist movement. \nAllow 90 minutes. Tours are recommended for anyone over the age of 12. Tour covers about 1/4 mile of property and includes walking on uneven terrain and climbing several flights of stairs.   \nFee: $30/27 members.  \nPre-registration required.  REGISTER HERE
URL:https://hancockshakervillage.org/calendar/haunted-hancock-tour-5/
LOCATION:Hancock Shaker Village\, 1843 West Housatonic Street\, Pittsfield\, MA\, 01201\, United States
CATEGORIES:Haunted Hancock
END:VEVENT
BEGIN:VEVENT
DTSTART;TZID=America/New_York:20261030T190000
DTEND;TZID=America/New_York:20261030T203000
DTSTAMP:20260421T161927
CREATED:20260225T175817Z
LAST-MODIFIED:20260225T180023Z
UID:10006961-1793386800-1793392200@hancockshakervillage.org
SUMMARY:Haunted Hancock Tour
DESCRIPTION:HAUNTED HANCOCK  \nTime: 7 pm \nAn after-hours\, spine-chilling evening of ghosts and mystery. Walk the dark paths of the village with an expert guide\, hear tales of ghostly sightings\, and discover the Shakers’ role in the spiritualist movement. \nAllow 90 minutes. Tours are recommended for anyone over the age of 12. Tour covers about 1/4 mile of property and includes walking on uneven terrain and climbing several flights of stairs.   \nFee: $30/27 members.  \nPre-registration required.  REGISTER HERE
URL:https://hancockshakervillage.org/calendar/haunted-hancock-tour-6/
LOCATION:Hancock Shaker Village\, 1843 West Housatonic Street\, Pittsfield\, MA\, 01201\, United States
CATEGORIES:Haunted Hancock
END:VEVENT
END:VCALENDAR