BEGIN:VCALENDAR
VERSION:2.0
PRODID:-//Hancock Shaker Village - ECPv6.15.20//NONSGML v1.0//EN
CALSCALE:GREGORIAN
METHOD:PUBLISH
X-ORIGINAL-URL:https://hancockshakervillage.org
X-WR-CALDESC:Events for Hancock Shaker Village
REFRESH-INTERVAL;VALUE=DURATION:PT1H
X-Robots-Tag:noindex
X-PUBLISHED-TTL:PT1H
BEGIN:VTIMEZONE
TZID:America/New_York
BEGIN:DAYLIGHT
TZOFFSETFROM:-0500
TZOFFSETTO:-0400
TZNAME:EDT
DTSTART:20230312T070000
END:DAYLIGHT
BEGIN:STANDARD
TZOFFSETFROM:-0400
TZOFFSETTO:-0500
TZNAME:EST
DTSTART:20231105T060000
END:STANDARD
BEGIN:DAYLIGHT
TZOFFSETFROM:-0500
TZOFFSETTO:-0400
TZNAME:EDT
DTSTART:20240310T070000
END:DAYLIGHT
BEGIN:STANDARD
TZOFFSETFROM:-0400
TZOFFSETTO:-0500
TZNAME:EST
DTSTART:20241103T060000
END:STANDARD
BEGIN:DAYLIGHT
TZOFFSETFROM:-0500
TZOFFSETTO:-0400
TZNAME:EDT
DTSTART:20250309T070000
END:DAYLIGHT
BEGIN:STANDARD
TZOFFSETFROM:-0400
TZOFFSETTO:-0500
TZNAME:EST
DTSTART:20251102T060000
END:STANDARD
BEGIN:DAYLIGHT
TZOFFSETFROM:-0500
TZOFFSETTO:-0400
TZNAME:EDT
DTSTART:20260308T070000
END:DAYLIGHT
BEGIN:STANDARD
TZOFFSETFROM:-0400
TZOFFSETTO:-0500
TZNAME:EST
DTSTART:20261101T060000
END:STANDARD
END:VTIMEZONE
BEGIN:VEVENT
DTSTART;TZID=America/New_York:20251030T190000
DTEND;TZID=America/New_York:20251030T203000
DTSTAMP:20260423T114411
CREATED:20250306T125536Z
LAST-MODIFIED:20250325T183521Z
UID:10005808-1761850800-1761856200@hancockshakervillage.org
SUMMARY:Haunted Hancock Tour: Oct 30
DESCRIPTION:HAUNTED HANCOCK TOUR  \nOctober 17-18\, 7pm \nOctober 23-25\, 7pm \nOctober 30\, 7pm  \nA spine-chilling evening of Shaker ghosts and mystery. Walk the dark paths of the Village\, venture into the cellar of the Trustees’ Office to see gravestones\, hear true tales of ghostly sightings\, and learn about the Shakers’ role in the spiritualist movement. 90-minute walking tour. \nRecommended for ages 12 and up.  \nBook Tickets Oct 30
URL:https://hancockshakervillage.org/calendar/haunted-hancock-tour-oct-30/
LOCATION:Hancock Shaker Village\, 1843 West Housatonic Street\, Pittsfield\, MA\, 01201\, United States
CATEGORIES:Haunted Hancock
ATTACH;FMTTYPE=image/jpeg:https://hancockshakervillage.org/wp-content/uploads/2024/03/22-Haunted-Hancock_Photo-Talya-Phelps-web.jpg
END:VEVENT
BEGIN:VEVENT
DTSTART;TZID=America/New_York:20251025T190000
DTEND;TZID=America/New_York:20251025T203000
DTSTAMP:20260423T114411
CREATED:20250306T125502Z
LAST-MODIFIED:20250325T142716Z
UID:10005807-1761418800-1761424200@hancockshakervillage.org
SUMMARY:Haunted Hancock Tour: Oct 25
DESCRIPTION:HAUNTED HANCOCK TOUR  \nOctober 17-18\, 7pm \nOctober 23-25\, 7pm \nOctober 30\, 7pm  \nA spine-chilling evening of Shaker ghosts and mystery. Walk the dark paths of the Village\, venture into the cellar of the Trustees’ Office to see gravestones\, hear true tales of ghostly sightings\, and learn about the Shakers’ role in the spiritualist movement. 90-minute walking tour. \nRecommended for ages 12 and up.  \nBook Tickets Oct 25
URL:https://hancockshakervillage.org/calendar/haunted-hancock-tour-oct-25/
LOCATION:Hancock Shaker Village\, 1843 West Housatonic Street\, Pittsfield\, MA\, 01201\, United States
CATEGORIES:Haunted Hancock
ATTACH;FMTTYPE=image/jpeg:https://hancockshakervillage.org/wp-content/uploads/2024/03/22-Haunted-Hancock_Photo-Talya-Phelps-web.jpg
END:VEVENT
BEGIN:VEVENT
DTSTART;TZID=America/New_York:20251025T170000
DTEND;TZID=America/New_York:20251025T183000
DTSTAMP:20260423T114411
CREATED:20250306T124742Z
LAST-MODIFIED:20250325T142322Z
UID:10005801-1761411600-1761417000@hancockshakervillage.org
SUMMARY:Haunted Hancock for Kids: Oct 25
DESCRIPTION:Saturday\, October 18 & 25\, 5pm \nA tour of Shaker ghosts and mystery especially designed for kids ages 8-12 (and at least one adult companion). The 45-minute walking tour includes a spooky walk through the Village and a visit to the Brick Dwelling. \nBook Tickets Oct 25
URL:https://hancockshakervillage.org/calendar/haunted-hancock-for-kids-oct-25/
LOCATION:Hancock Shaker Village\, 1843 West Housatonic Street\, Pittsfield\, MA\, 01201\, United States
CATEGORIES:Haunted Hancock
ATTACH;FMTTYPE=image/jpeg:https://hancockshakervillage.org/wp-content/uploads/2025/03/pumpkins-in-front-of-RSB_0000_Layer-1.jpg
END:VEVENT
BEGIN:VEVENT
DTSTART;TZID=America/New_York:20251024T190000
DTEND;TZID=America/New_York:20251024T203000
DTSTAMP:20260423T114411
CREATED:20250306T125442Z
LAST-MODIFIED:20250325T142618Z
UID:10005806-1761332400-1761337800@hancockshakervillage.org
SUMMARY:Haunted Hancock Tour: Oct 24
DESCRIPTION:HAUNTED HANCOCK TOUR  \nOctober 17-18\, 7pm \nOctober 23-25\, 7pm \nOctober 30\, 7pm  \nA spine-chilling evening of Shaker ghosts and mystery. Walk the dark paths of the Village\, venture into the cellar of the Trustees’ Office to see gravestones\, hear true tales of ghostly sightings\, and learn about the Shakers’ role in the spiritualist movement. 90-minute walking tour. \nRecommended for ages 12 and up.  \nBook Tickets Oct 24
URL:https://hancockshakervillage.org/calendar/haunted-hancock-tour-oct-24/
LOCATION:Hancock Shaker Village\, 1843 West Housatonic Street\, Pittsfield\, MA\, 01201\, United States
CATEGORIES:Haunted Hancock
ATTACH;FMTTYPE=image/jpeg:https://hancockshakervillage.org/wp-content/uploads/2024/03/22-Haunted-Hancock_Photo-Talya-Phelps-web.jpg
END:VEVENT
BEGIN:VEVENT
DTSTART;TZID=America/New_York:20251023T190000
DTEND;TZID=America/New_York:20251023T203000
DTSTAMP:20260423T114411
CREATED:20250306T125417Z
LAST-MODIFIED:20250325T142535Z
UID:10005805-1761246000-1761251400@hancockshakervillage.org
SUMMARY:Haunted Hancock Tour: Oct 23
DESCRIPTION:HAUNTED HANCOCK TOUR  \nOctober 17-18\, 7pm \nOctober 23-25\, 7pm \nOctober 30\, 7pm  \nA spine-chilling evening of Shaker ghosts and mystery. Walk the dark paths of the Village\, venture into the cellar of the Trustees’ Office to see gravestones\, hear true tales of ghostly sightings\, and learn about the Shakers’ role in the spiritualist movement. 90-minute walking tour. \nRecommended for ages 12 and up.  \nBook Tickets Oct 23
URL:https://hancockshakervillage.org/calendar/haunted-hancock-tour-oct-23/
LOCATION:Hancock Shaker Village\, 1843 West Housatonic Street\, Pittsfield\, MA\, 01201\, United States
CATEGORIES:Haunted Hancock
ATTACH;FMTTYPE=image/jpeg:https://hancockshakervillage.org/wp-content/uploads/2024/03/22-Haunted-Hancock_Photo-Talya-Phelps-web.jpg
END:VEVENT
BEGIN:VEVENT
DTSTART;TZID=America/New_York:20251018T190000
DTEND;TZID=America/New_York:20251018T203000
DTSTAMP:20260423T114411
CREATED:20250306T125342Z
LAST-MODIFIED:20250325T142458Z
UID:10005804-1760814000-1760819400@hancockshakervillage.org
SUMMARY:Haunted Hancock Tour: Oct 18
DESCRIPTION:HAUNTED HANCOCK TOUR  \nOctober 17-18\, 7pm \nOctober 23-25\, 7pm \nOctober 30\, 7pm  \nA spine-chilling evening of Shaker ghosts and mystery. Walk the dark paths of the Village\, venture into the cellar of the Trustees’ Office to see gravestones\, hear true tales of ghostly sightings\, and learn about the Shakers’ role in the spiritualist movement. 90-minute walking tour. \nRecommended for ages 12 and up.  \nBook Tickets Oct 18
URL:https://hancockshakervillage.org/calendar/haunted-hancock-tour-oct-18-2/
LOCATION:Hancock Shaker Village\, 1843 West Housatonic Street\, Pittsfield\, MA\, 01201\, United States
CATEGORIES:Haunted Hancock
ATTACH;FMTTYPE=image/jpeg:https://hancockshakervillage.org/wp-content/uploads/2024/03/22-Haunted-Hancock_Photo-Talya-Phelps-web.jpg
END:VEVENT
BEGIN:VEVENT
DTSTART;TZID=America/New_York:20251018T170000
DTEND;TZID=America/New_York:20251018T183000
DTSTAMP:20260423T114411
CREATED:20250306T124706Z
LAST-MODIFIED:20250325T142223Z
UID:10005800-1760806800-1760812200@hancockshakervillage.org
SUMMARY:Haunted Hancock for Kids: Oct 18
DESCRIPTION:Saturday\, October 18 & 25\, 5pm \nA tour of Shaker ghosts and mystery especially designed for kids ages 8-12 (and at least one adult companion). The 45-minute walking tour includes a spooky walk through the Village and a visit to the Brick Dwelling. \nBook Tickets Oct 18
URL:https://hancockshakervillage.org/calendar/haunted-hancock-for-kids-oct-18/
LOCATION:Hancock Shaker Village\, 1843 West Housatonic Street\, Pittsfield\, MA\, 01201\, United States
CATEGORIES:Haunted Hancock
ATTACH;FMTTYPE=image/jpeg:https://hancockshakervillage.org/wp-content/uploads/2025/03/pumpkins-in-front-of-RSB_0000_Layer-1.jpg
END:VEVENT
BEGIN:VEVENT
DTSTART;TZID=America/New_York:20251018T100000
DTEND;TZID=America/New_York:20251018T160000
DTSTAMP:20260423T114411
CREATED:20250306T124946Z
LAST-MODIFIED:20250311T155522Z
UID:10005802-1760781600-1760803200@hancockshakervillage.org
SUMMARY:Halloween Pumpkin Extravaganza at the Village: Oct 18
DESCRIPTION:HALLOWEEN PUMPKIN EXTRAVAGANZA AT THE VILLAGE  \nSaturday\, October 18\, 10am-4pm  \nIncluded in admission/free to members Celebrate Halloween AND all things pumpkin. Wear your costume\, trick-or-treat through the Village\, meet Valerian the Garden Witch\, decorate a pumpkin\, and visit the Dwelling kitchen. \nIncluded in admission.
URL:https://hancockshakervillage.org/calendar/halloween-pumpkin-extravaganza-at-the-village-oct-18/
LOCATION:Hancock Shaker Village\, 1843 West Housatonic Street\, Pittsfield\, MA\, 01201\, United States
CATEGORIES:Haunted Hancock
ATTACH;FMTTYPE=image/jpeg:https://hancockshakervillage.org/wp-content/uploads/2025/03/halloween-3_0000_Layer-1.jpg
END:VEVENT
BEGIN:VEVENT
DTSTART;TZID=America/New_York:20251017T190000
DTEND;TZID=America/New_York:20251017T203000
DTSTAMP:20260423T114411
CREATED:20250306T125308Z
LAST-MODIFIED:20250325T142404Z
UID:10005803-1760727600-1760733000@hancockshakervillage.org
SUMMARY:Haunted Hancock Tour: Oct 17
DESCRIPTION:HAUNTED HANCOCK TOUR  \nOctober 17-18\, 7pm \nOctober 23-25\, 7pm \nOctober 30\, 7pm  \nA spine-chilling evening of Shaker ghosts and mystery. Walk the dark paths of the Village\, venture into the cellar of the Trustees’ Office to see gravestones\, hear true tales of ghostly sightings\, and learn about the Shakers’ role in the spiritualist movement. 90-minute walking tour. \nRecommended for ages 12 and up.  \nBook Tickets Oct 17
URL:https://hancockshakervillage.org/calendar/haunted-hancock-tour-oct-17-2/
LOCATION:Hancock Shaker Village\, 1843 West Housatonic Street\, Pittsfield\, MA\, 01201\, United States
CATEGORIES:Haunted Hancock
ATTACH;FMTTYPE=image/jpeg:https://hancockshakervillage.org/wp-content/uploads/2024/03/22-Haunted-Hancock_Photo-Talya-Phelps-web.jpg
END:VEVENT
BEGIN:VEVENT
DTSTART;TZID=America/New_York:20241201T080000
DTEND;TZID=America/New_York:20241201T170000
DTSTAMP:20260423T114411
CREATED:20240315T160014Z
LAST-MODIFIED:20240315T160014Z
UID:10004029-1733040000-1733072400@hancockshakervillage.org
SUMMARY:Thanksgiving on the Farm: Dec 1
DESCRIPTION:Friday–Sunday\,\nNovember 29-December 1\,\n11am-4pm \nImmerse yourself in a beautiful environment. Breathe in the crisp autumn air\, take in the stunning Berkshire vistas\, enjoy the historic buildings and Shaker collection\, and stroll through the Village.
URL:https://hancockshakervillage.org/calendar/thanksgiving-on-the-farm-dec-1/
LOCATION:Hancock Shaker Village\, 1843 West Housatonic Street\, Pittsfield\, MA\, 01201\, United States
CATEGORIES:Haunted Hancock
ATTACH;FMTTYPE=image/jpeg:https://hancockshakervillage.org/wp-content/uploads/2024/03/HSV-in-twilight-for-Country-Fair-and-or-Spirited-Supper-section-gigapixel-standard-scale-2_00x-web.jpg
END:VEVENT
BEGIN:VEVENT
DTSTART;TZID=America/New_York:20241026T170000
DTEND;TZID=America/New_York:20241026T183000
DTSTAMP:20260423T114411
CREATED:20240315T154953Z
LAST-MODIFIED:20241016T141226Z
UID:10004026-1729962000-1729967400@hancockshakervillage.org
SUMMARY:Haunted Hancock for Kids: Oct 26
DESCRIPTION:Saturday\, October 19 & 26\, 5pm \nA tour of Shaker ghosts and mystery especially designed for kids ages 8-12 (and at least one adult companion). The 45-minute walking tour includes a spooky walk through the Village and a visit to the Brick Dwelling. \n\nSaturday\, October 19\, at 5 pm\nSaturday\, October 26\, at 5 pm
URL:https://hancockshakervillage.org/calendar/haunted-hancock-for-kids-oct-26/
LOCATION:Hancock Shaker Village\, 1843 West Housatonic Street\, Pittsfield\, MA\, 01201\, United States
CATEGORIES:Haunted Hancock
ATTACH;FMTTYPE=image/jpeg:https://hancockshakervillage.org/wp-content/uploads/2024/03/Holloween-kids-gigapixel-standard-scale-2_00x-web.jpg
END:VEVENT
BEGIN:VEVENT
DTSTART;TZID=America/New_York:20241019T190000
DTEND;TZID=America/New_York:20241019T203000
DTSTAMP:20260423T114411
CREATED:20240315T155317Z
LAST-MODIFIED:20241016T140827Z
UID:10004028-1729364400-1729369800@hancockshakervillage.org
SUMMARY:Haunted Hancock Tour: Oct 19
DESCRIPTION:Thursday-Saturday\, October 17-19\, 7pm \nThursday-Saturday\, October 24-26\, 7pm  \nThursday\, October 31\, 7pm  \nA spine-chilling evening of Shaker ghosts and mystery. Walk the dark paths of the Village\, venture into the cellar of the Trustees’ Office to see gravestones\, hear true tales of ghostly sightings\, and learn about the Shakers’ role in the spiritualist movement. 90-minute walking tour. Recommended for ages 12 and up. \n\nThursday\, October 17\, at 7 pm\nFriday\, October 18\, at 7 pm\nSaturday\, October 19\, at 7 pm\nThursday\, October 24\, at 7 pm\nFriday\, October 25\, at 7 pm\nSaturday\, October 26\, at 7 pm\nThursday\, October 31\, at 7 pm
URL:https://hancockshakervillage.org/calendar/haunted-hancock-tour-oct-19/
LOCATION:Hancock Shaker Village\, 1843 West Housatonic Street\, Pittsfield\, MA\, 01201\, United States
CATEGORIES:Haunted Hancock
ATTACH;FMTTYPE=image/jpeg:https://hancockshakervillage.org/wp-content/uploads/2024/03/22-Haunted-Hancock_Photo-Talya-Phelps-web.jpg
END:VEVENT
BEGIN:VEVENT
DTSTART;TZID=America/New_York:20241019T170000
DTEND;TZID=America/New_York:20241019T183000
DTSTAMP:20260423T114411
CREATED:20240314T112532Z
LAST-MODIFIED:20241016T141230Z
UID:10002351-1729357200-1729362600@hancockshakervillage.org
SUMMARY:Haunted Hancock for Kids: Oct 19
DESCRIPTION:Saturday\, October 19 & 26\, 5pm \nA tour of Shaker ghosts and mystery especially designed for kids ages 8-12 (and at least one adult companion). The 45-minute walking tour includes a spooky walk through the Village and a visit to the Brick Dwelling. \n\nSaturday\, October 19\, at 5 pm\nSaturday\, October 26\, at 5 pm
URL:https://hancockshakervillage.org/calendar/haunted-hancock-for-kids-oct-19/
LOCATION:Hancock Shaker Village\, 1843 West Housatonic Street\, Pittsfield\, MA\, 01201\, United States
CATEGORIES:Haunted Hancock
ATTACH;FMTTYPE=image/jpeg:https://hancockshakervillage.org/wp-content/uploads/2024/03/Holloween-kids-gigapixel-standard-scale-2_00x-web.jpg
END:VEVENT
BEGIN:VEVENT
DTSTART;TZID=America/New_York:20241019T100000
DTEND;TZID=America/New_York:20241019T150000
DTSTAMP:20260423T114411
CREATED:20240314T112209Z
LAST-MODIFIED:20240315T145916Z
UID:10002350-1729332000-1729350000@hancockshakervillage.org
SUMMARY:Halloween Pumpkin Extravaganza at the Village: Oct 19
DESCRIPTION:Saturday\, October 19\, 10am-3pm \nIncluded in admission/free to members  \nCelebrate Halloween AND all things pumpkin.  Wear your costume\, trick-or-treat through the Village\, meet Valerian the Garden Witch\, carve a pumpkin\, and visit the Dwelling kitchen for the secret to a good pie crust.
URL:https://hancockshakervillage.org/calendar/halloween-pumpkin-extravaganza-at-the-village-oct-19/
LOCATION:Hancock Shaker Village\, 1843 West Housatonic Street\, Pittsfield\, MA\, 01201\, United States
CATEGORIES:Haunted Hancock,Special Events
ATTACH;FMTTYPE=image/jpeg:https://hancockshakervillage.org/wp-content/uploads/2024/03/Pumpkin-patch-scaled.jpg
END:VEVENT
BEGIN:VEVENT
DTSTART;TZID=America/New_York:20241018T190000
DTEND;TZID=America/New_York:20241018T203000
DTSTAMP:20260423T114411
CREATED:20240315T155304Z
LAST-MODIFIED:20241016T140754Z
UID:10004027-1729278000-1729283400@hancockshakervillage.org
SUMMARY:Haunted Hancock Tour: Oct 18
DESCRIPTION:Thursday-Saturday\, October 17-19\, 7pm \nThursday-Saturday\, October 24-26\, 7pm  \nThursday\, October 31\, 7pm  \nA spine-chilling evening of Shaker ghosts and mystery. Walk the dark paths of the Village\, venture into the cellar of the Trustees’ Office to see gravestones\, hear true tales of ghostly sightings\, and learn about the Shakers’ role in the spiritualist movement. 90-minute walking tour. Recommended for ages 12 and up. \n\nThursday\, October 17\, at 7 pm\nFriday\, October 18\, at 7 pm\nSaturday\, October 19\, at 7 pm\nThursday\, October 24\, at 7 pm\nFriday\, October 25\, at 7 pm\nSaturday\, October 26\, at 7 pm\nThursday\, October 31\, at 7 pm
URL:https://hancockshakervillage.org/calendar/haunted-hancock-tour-oct-18/
LOCATION:Hancock Shaker Village\, 1843 West Housatonic Street\, Pittsfield\, MA\, 01201\, United States
CATEGORIES:Haunted Hancock
ATTACH;FMTTYPE=image/jpeg:https://hancockshakervillage.org/wp-content/uploads/2024/03/22-Haunted-Hancock_Photo-Talya-Phelps-web.jpg
END:VEVENT
BEGIN:VEVENT
DTSTART;TZID=America/New_York:20241017T190000
DTEND;TZID=America/New_York:20241017T203000
DTSTAMP:20260423T114411
CREATED:20240314T113257Z
LAST-MODIFIED:20241016T140712Z
UID:10002352-1729191600-1729197000@hancockshakervillage.org
SUMMARY:Haunted Hancock Tour: Oct 17
DESCRIPTION:Thursday-Saturday\, October 17-19\, 7pm \nThursday-Saturday\, October 24-26\, 7pm  \nThursday\, October 31\, 7pm  \nA spine-chilling evening of Shaker ghosts and mystery. Walk the dark paths of the Village\, venture into the cellar of the Trustees’ Office to see gravestones\, hear true tales of ghostly sightings\, and learn about the Shakers’ role in the spiritualist movement. 90-minute walking tour. Recommended for ages 12 and up. \nBOOK TICKETS: \n\nThursday\, October 17\, at 7 pm\nFriday\, October 18\, at 7 pm\nSaturday\, October 19\, at 7 pm\nThursday\, October 24\, at 7 pm\nFriday\, October 25\, at 7 pm\nSaturday\, October 26\, at 7 pm\nThursday\, October 31\, at 7 pm
URL:https://hancockshakervillage.org/calendar/haunted-hancock-tour-oct-17/
LOCATION:Hancock Shaker Village\, 1843 West Housatonic Street\, Pittsfield\, MA\, 01201\, United States
CATEGORIES:Haunted Hancock
ATTACH;FMTTYPE=image/jpeg:https://hancockshakervillage.org/wp-content/uploads/2024/03/22-Haunted-Hancock_Photo-Talya-Phelps-web.jpg
END:VEVENT
END:VCALENDAR